BEGIN:VCALENDAR
VERSION:2.0
PRODID:-//Salford Angels WI - ECPv4.9.4//NONSGML v1.0//EN
CALSCALE:GREGORIAN
METHOD:PUBLISH
X-WR-CALNAME:Salford Angels WI
X-ORIGINAL-URL:https://www.salfordangelswi.co.uk
X-WR-CALDESC:Events for Salford Angels WI
BEGIN:VTIMEZONE
TZID:"UTC"
BEGIN:STANDARD
TZOFFSETFROM:+0000
TZOFFSETTO:+0000
TZNAME:UTC
DTSTART:20180101T000000
END:STANDARD
END:VTIMEZONE
BEGIN:VEVENT
DTSTART;VALUE=DATE:20180418
DTEND;VALUE=DATE:20180419
DTSTAMP:20260426T021148
CREATED:20180114T132655Z
LAST-MODIFIED:20180114T132655Z
UID:3086-1524009600-1524095999@www.salfordangelswi.co.uk
SUMMARY:LFWI - A day trip to Chester
DESCRIPTION:
URL:https://www.salfordangelswi.co.uk/event/lfwi-a-day-trip-to-chester/
LOCATION:Croston House\, Lancashire Business Park\, Leyland\, PR26 6TU\, United Kingdom
CATEGORIES:General Events,Lancashire Federation
END:VEVENT
END:VCALENDAR