BEGIN:VCALENDAR
VERSION:2.0
PRODID:-//Salford Angels WI - ECPv4.9.4//NONSGML v1.0//EN
CALSCALE:GREGORIAN
METHOD:PUBLISH
X-WR-CALNAME:Salford Angels WI
X-ORIGINAL-URL:https://www.salfordangelswi.co.uk
X-WR-CALDESC:Events for Salford Angels WI
BEGIN:VTIMEZONE
TZID:"UTC"
BEGIN:STANDARD
TZOFFSETFROM:+0000
TZOFFSETTO:+0000
TZNAME:UTC
DTSTART:20180101T000000
END:STANDARD
END:VTIMEZONE
BEGIN:VEVENT
DTSTART;TZID="UTC":20180512T100000
DTEND;TZID="UTC":20180512T153000
DTSTAMP:20260425T012512
CREATED:20180211T164139Z
LAST-MODIFIED:20180211T164139Z
UID:3138-1526119200-1526139000@www.salfordangelswi.co.uk
SUMMARY:LFWI - Decoupage
DESCRIPTION:
URL:https://www.salfordangelswi.co.uk/event/lfwi-decoupage-2/
LOCATION:Croston House\, Lancashire Business Park\, Leyland\, PR26 6TU\, United Kingdom
CATEGORIES:General Events,Lancashire Federation
END:VEVENT
END:VCALENDAR