BEGIN:VCALENDAR
VERSION:2.0
PRODID:-//Salford Angels WI - ECPv4.9.4//NONSGML v1.0//EN
CALSCALE:GREGORIAN
METHOD:PUBLISH
X-WR-CALNAME:Salford Angels WI
X-ORIGINAL-URL:https://www.salfordangelswi.co.uk
X-WR-CALDESC:Events for Salford Angels WI
BEGIN:VTIMEZONE
TZID:"UTC"
BEGIN:STANDARD
TZOFFSETFROM:+0000
TZOFFSETTO:+0000
TZNAME:UTC
DTSTART:20180101T000000
END:STANDARD
END:VTIMEZONE
BEGIN:VEVENT
DTSTART;TZID="UTC":20180416T130000
DTEND;TZID="UTC":20180416T150000
DTSTAMP:20260426T040431
CREATED:20180115T201825Z
LAST-MODIFIED:20180115T201825Z
UID:3097-1523883600-1523890800@www.salfordangelswi.co.uk
SUMMARY:LFWI - 'Show Tips'
DESCRIPTION:Good beginnings mean happy endings for the County Show! \n
URL:https://www.salfordangelswi.co.uk/event/lfwi-show-tips-3/
LOCATION:St Johns Church Hall\, Pilling\, PR3 6HB\, United Kingdom
CATEGORIES:General Events,Lancashire Federation
END:VEVENT
END:VCALENDAR