BEGIN:VCALENDAR
VERSION:2.0
PRODID:-//Salford Angels WI - ECPv4.9.4//NONSGML v1.0//EN
CALSCALE:GREGORIAN
METHOD:PUBLISH
X-WR-CALNAME:Salford Angels WI
X-ORIGINAL-URL:https://www.salfordangelswi.co.uk
X-WR-CALDESC:Events for Salford Angels WI
BEGIN:VTIMEZONE
TZID:"UTC"
BEGIN:STANDARD
TZOFFSETFROM:+0000
TZOFFSETTO:+0000
TZNAME:UTC
DTSTART:20180101T000000
END:STANDARD
END:VTIMEZONE
BEGIN:VEVENT
DTSTART;TZID="UTC":20180419T190000
DTEND;TZID="UTC":20180419T210000
DTSTAMP:20260425T230121
CREATED:20180220T203147Z
LAST-MODIFIED:20180220T203147Z
UID:3164-1524164400-1524171600@www.salfordangelswi.co.uk
SUMMARY:Main Meeting - How to de-clutter your home
DESCRIPTION:
URL:https://www.salfordangelswi.co.uk/event/main-meeting-how-to-de-clutter-your-home/
LOCATION:Beacon Centre\, London Street\, Salford\, M6 6QT\, United Kingdom
CATEGORIES:General Events,Salford Angels
END:VEVENT
END:VCALENDAR